BEGIN:VCALENDAR
VERSION:2.0
PRODID:calendify.com
BEGIN:VEVENT
UID:calendify-session-e2bOyqKQOw1
DTSTART:20231228T200000Z
SEQUENCE:0
TRANSP:OPAQUE
DTEND:20231228T204000Z
URL:https://calendify.com/session/e2bOyqKQOw1
LOCATION:Stage H
SUMMARY:Artificial Museum
CLASS:PUBLIC
DESCRIPTION:https://calendify.com/session/e2bOyqKQOw1
DTSTAMP:20260423T044055Z
CREATED:20231227T161002Z
LAST-MODIFIED:20240401T142932Z
END:VEVENT
END:VCALENDAR