BEGIN:VCALENDAR
VERSION:2.0
PRODID:calendify.com
BEGIN:VEVENT
UID:calendify-session-e2bOyqNGOw1
DTSTART:20231230T120000Z
SEQUENCE:0
TRANSP:OPAQUE
DTEND:20231230T140000Z
URL:https://calendify.com/session/e2bOyqNGOw1
LOCATION:Saal D
SUMMARY:Celebrating Failures Workshop
CLASS:PUBLIC
DESCRIPTION:https://calendify.com/session/e2bOyqNGOw1
DTSTAMP:20260423T055859Z
CREATED:20231226T050003Z
LAST-MODIFIED:20240401T142934Z
END:VEVENT
END:VCALENDAR