BEGIN:VCALENDAR
VERSION:2.0
PRODID:calendify.com
BEGIN:VEVENT
UID:calendify-session-e2bOyqXKOw1
DTSTART:20231229T161500Z
SEQUENCE:0
TRANSP:OPAQUE
DTEND:20231229T171500Z
URL:https://calendify.com/session/e2bOyqXKOw1
LOCATION:Saal Granville
SUMMARY:How Many Planets in Our Solar System? Glad You Asked!
CLASS:PUBLIC
DESCRIPTION:https://calendify.com/session/e2bOyqXKOw1
DTSTAMP:20260423T055114Z
CREATED:20231215T204820Z
LAST-MODIFIED:20240401T142932Z
END:VEVENT
END:VCALENDAR