BEGIN:VCALENDAR
VERSION:2.0
PRODID:calendify.com
BEGIN:VEVENT
UID:calendify-session-e2bOyqjxOw1
DTSTART:20230815T130000Z
SEQUENCE:0
TRANSP:OPAQUE
DTEND:20230815T132000Z
URL:https://calendify.com/session/e2bOyqjxOw1
LOCATION:Digitalcourage
SUMMARY:A brief history of the '90's \"Crypto Wars\"
CLASS:PUBLIC
DESCRIPTION:https://calendify.com/session/e2bOyqjxOw1
DTSTAMP:20260426T001426Z
CREATED:20230806T112913Z
LAST-MODIFIED:20240401T150759Z
END:VEVENT
END:VCALENDAR