BEGIN:VCALENDAR
VERSION:2.0
PRODID:calendify.com
BEGIN:VEVENT
UID:calendify-session-e2bOyqrDOw1
DTSTART:20231228T180000Z
SEQUENCE:0
TRANSP:OPAQUE
DTEND:20231228T184500Z
URL:https://calendify.com/session/e2bOyqrDOw1
LOCATION:Sendezentrum Podcast Table (X12)
SUMMARY:Fantas-Tisch
CLASS:PUBLIC
DESCRIPTION:https://calendify.com/session/e2bOyqrDOw1
DTSTAMP:20260422T003501Z
CREATED:20231223T100103Z
LAST-MODIFIED:20240401T142932Z
END:VEVENT
END:VCALENDAR