BEGIN:VCALENDAR
VERSION:2.0
PRODID:calendify.com
BEGIN:VEVENT
UID:calendify-session-e2bOyvAXMw1
DTSTART:20221229T180000Z
SEQUENCE:0
TRANSP:OPAQUE
DTEND:20221229T200000Z
URL:https://calendify.com/session/e2bOyvAXMw1
LOCATION:Eingang
SUMMARY:Abendessen Tag 3
CLASS:PUBLIC
DESCRIPTION:https://calendify.com/session/e2bOyvAXMw1
DTSTAMP:20260423T105505Z
CREATED:20221221T105332Z
LAST-MODIFIED:20221230T225005Z
END:VEVENT
END:VCALENDAR