BEGIN:VCALENDAR
VERSION:2.0
PRODID:calendify.com
BEGIN:VEVENT
UID:calendify-session-e2bOyvnDMw1
DTSTART:20221230T113000Z
SEQUENCE:0
TRANSP:OPAQUE
DTEND:20221230T123000Z
URL:https://calendify.com/session/e2bOyvnDMw1
LOCATION:HIP - Track 2 - Room 2
SUMMARY:Weaving\, Old and New Technology: from Design Concept to Diva Fashi
 on
CLASS:PUBLIC
DESCRIPTION:https://calendify.com/session/e2bOyvnDMw1
DTSTAMP:20260420T211147Z
CREATED:20221229T000003Z
LAST-MODIFIED:20221230T225002Z
END:VEVENT
END:VCALENDAR