BEGIN:VCALENDAR
VERSION:2.0
PRODID:calendify.com
BEGIN:VEVENT
UID:calendify-session-e2bOyvqKMw1
DTSTART:20221227T090000Z
SEQUENCE:0
TRANSP:OPAQUE
DTEND:20221227T103000Z
URL:https://calendify.com/session/e2bOyvqKMw1
LOCATION:Stände - H2-4.8
SUMMARY:No Future for IAA Solistand
CLASS:PUBLIC
DESCRIPTION:https://calendify.com/session/e2bOyvqKMw1
DTSTAMP:20260424T003658Z
CREATED:20221222T170032Z
LAST-MODIFIED:20221230T225007Z
END:VEVENT
END:VCALENDAR