BEGIN:VCALENDAR
VERSION:2.0
PRODID:calendify.com
BEGIN:VEVENT
UID:calendify-session-eLYOw02qMzp
DTSTART:20211030T120000Z
SEQUENCE:0
TRANSP:OPAQUE
DTEND:20211030T124500Z
URL:https://calendify.com/session/eLYOw02qMzp
LOCATION:Stream
SUMMARY:Artifical Intelligence -  weder künstlich noch intelligent
CLASS:PUBLIC
DESCRIPTION:https://calendify.com/session/eLYOw02qMzp
DTSTAMP:20260424T030247Z
CREATED:20211030T075003Z
LAST-MODIFIED:20211101T215003Z
END:VEVENT
END:VCALENDAR