BEGIN:VCALENDAR
VERSION:2.0
PRODID:calendify.com
BEGIN:VEVENT
UID:calendify-session-eLYOw08VMzp
DTSTART:20210521T145500Z
SEQUENCE:0
TRANSP:OPAQUE
DTEND:20210521T152500Z
URL:https://calendify.com/session/eLYOw08VMzp
LOCATION:Kanal 1
SUMMARY:Extrem normal? AfD zwischen Superwahljahr und Querdenken
CLASS:PUBLIC
DESCRIPTION:https://calendify.com/session/eLYOw08VMzp
DTSTAMP:20260423T004642Z
CREATED:20210511T170422Z
LAST-MODIFIED:20210524T215002Z
END:VEVENT
END:VCALENDAR