BEGIN:VCALENDAR
VERSION:2.0
PRODID:calendify.com
BEGIN:VEVENT
UID:calendify-session-eLYOw0BNMzp
DTSTART:20210522T113000Z
SEQUENCE:0
TRANSP:OPAQUE
DTEND:20210522T115500Z
URL:https://calendify.com/session/eLYOw0BNMzp
LOCATION:Kanal 2
SUMMARY:„Team Timster“: Medienwissen für Kinder und Erwachsene
CLASS:PUBLIC
DESCRIPTION:https://calendify.com/session/eLYOw0BNMzp
DTSTAMP:20260422T233143Z
CREATED:20210429T130909Z
LAST-MODIFIED:20210524T215002Z
END:VEVENT
END:VCALENDAR