BEGIN:VCALENDAR
VERSION:2.0
PRODID:calendify.com
BEGIN:VEVENT
UID:calendify-session-eLYOw0EXMzp
DTSTART:20210314T174000Z
SEQUENCE:0
TRANSP:OPAQUE
DTEND:20210314T184000Z
URL:https://calendify.com/session/eLYOw0EXMzp
LOCATION:Youth 2
SUMMARY:Virtual Coding Music Band
CLASS:PUBLIC
DESCRIPTION:https://calendify.com/session/eLYOw0EXMzp
DTSTAMP:20260420T174322Z
CREATED:20210426T094928Z
LAST-MODIFIED:20210426T094928Z
END:VEVENT
END:VCALENDAR