BEGIN:VCALENDAR
VERSION:2.0
PRODID:calendify.com
BEGIN:VEVENT
UID:calendify-session-eLYOw0LXMzp
DTSTART:20220205T140000Z
SEQUENCE:0
TRANSP:OPAQUE
DTEND:20220205T143000Z
URL:https://calendify.com/session/eLYOw0LXMzp
LOCATION:D.hpc
SUMMARY:Using OpenStack to reduce HPC service complexity
CLASS:PUBLIC
DESCRIPTION:https://calendify.com/session/eLYOw0LXMzp
DTSTAMP:20260424T003723Z
CREATED:20220120T214602Z
LAST-MODIFIED:20220206T225002Z
END:VEVENT
END:VCALENDAR