BEGIN:VCALENDAR
VERSION:2.0
PRODID:calendify.com
BEGIN:VEVENT
UID:calendify-session-eLYOw0XPMzp
DTSTART:20211230T100000Z
SEQUENCE:0
TRANSP:OPAQUE
DTEND:20211230T104000Z
URL:https://calendify.com/session/eLYOw0XPMzp
LOCATION:r3s - Monheim/Rhein
SUMMARY:Universal p2p Networking with libp2p
CLASS:PUBLIC
DESCRIPTION:https://calendify.com/session/eLYOw0XPMzp
DTSTAMP:20260424T133508Z
CREATED:20211224T110102Z
LAST-MODIFIED:20211230T225002Z
END:VEVENT
END:VCALENDAR