BEGIN:VCALENDAR
VERSION:2.0
PRODID:calendify.com
BEGIN:VEVENT
UID:calendify-session-eLYOw0Z8Mzp
DTSTART:20211230T120500Z
SEQUENCE:0
TRANSP:OPAQUE
DTEND:20211230T140100Z
URL:https://calendify.com/session/eLYOw0Z8Mzp
LOCATION:rC3 Lounge
SUMMARY:Sādhanā
CLASS:PUBLIC
DESCRIPTION:https://calendify.com/session/eLYOw0Z8Mzp
DTSTAMP:20260422T084238Z
CREATED:20211229T163002Z
LAST-MODIFIED:20211230T225002Z
END:VEVENT
END:VCALENDAR