BEGIN:VCALENDAR
VERSION:2.0
PRODID:calendify.com
BEGIN:VEVENT
UID:calendify-session-eLYOw0ZjMzp
DTSTART:20211230T205500Z
SEQUENCE:0
TRANSP:OPAQUE
DTEND:20211230T225800Z
URL:https://calendify.com/session/eLYOw0ZjMzp
LOCATION:rC3 Lounge
SUMMARY:Aftershow till ~5:00 with Sutsche\, Gregoa\, Ias
CLASS:PUBLIC
DESCRIPTION:https://calendify.com/session/eLYOw0ZjMzp
DTSTAMP:20260420T171544Z
CREATED:20211227T155002Z
LAST-MODIFIED:20211230T225002Z
END:VEVENT
END:VCALENDAR