BEGIN:VCALENDAR
VERSION:2.0
PRODID:calendify.com
BEGIN:VEVENT
UID:calendify-session-eLYOw0aXMzp
DTSTART:20210316T170000Z
SEQUENCE:0
TRANSP:OPAQUE
DTEND:20210316T180000Z
URL:https://calendify.com/session/eLYOw0aXMzp
LOCATION:Spatial Chat / Social 2
SUMMARY:Facilitator Coaching Office Hours
CLASS:PUBLIC
DESCRIPTION:https://calendify.com/session/eLYOw0aXMzp
DTSTAMP:20260420T172845Z
CREATED:20210426T094929Z
LAST-MODIFIED:20210426T094929Z
END:VEVENT
END:VCALENDAR