BEGIN:VCALENDAR
VERSION:2.0
PRODID:calendify.com
BEGIN:VEVENT
UID:calendify-session-eLYOw0bPMzp
DTSTART:20210308T133000Z
SEQUENCE:0
TRANSP:OPAQUE
URL:https://calendify.com/session/eLYOw0bPMzp
LOCATION:Art and Media
SUMMARY:Haul Earth Ledger: Co-Speculations on Black Friday
CLASS:PUBLIC
DESCRIPTION:https://calendify.com/session/eLYOw0bPMzp
DTSTAMP:20260421T030700Z
CREATED:20210426T094926Z
LAST-MODIFIED:20210426T094926Z
END:VEVENT
END:VCALENDAR