BEGIN:VCALENDAR
VERSION:2.0
PRODID:calendify.com
BEGIN:VEVENT
UID:calendify-session-eLYOw0e8Mzp
DTSTART:20210312T170000Z
SEQUENCE:0
TRANSP:OPAQUE
DTEND:20210312T180000Z
URL:https://calendify.com/session/eLYOw0e8Mzp
LOCATION:Zoom Room 8A
SUMMARY:Data Futures Lab: Applying Data Stewardship Concepts in the Wild
CLASS:PUBLIC
DESCRIPTION:https://calendify.com/session/eLYOw0e8Mzp
DTSTAMP:20260420T204829Z
CREATED:20210426T094928Z
LAST-MODIFIED:20210426T094928Z
END:VEVENT
END:VCALENDAR