BEGIN:VCALENDAR
VERSION:2.0
PRODID:calendify.com
BEGIN:VEVENT
UID:calendify-session-eLYOw0k8Mzp
DTSTART:20210311T201500Z
SEQUENCE:0
TRANSP:OPAQUE
DTEND:20210311T211500Z
URL:https://calendify.com/session/eLYOw0k8Mzp
LOCATION:Youth 2
SUMMARY:Painting with Code in p5.js
CLASS:PUBLIC
DESCRIPTION:https://calendify.com/session/eLYOw0k8Mzp
DTSTAMP:20260420T174435Z
CREATED:20210426T094928Z
LAST-MODIFIED:20210426T094928Z
END:VEVENT
END:VCALENDAR