BEGIN:VCALENDAR
VERSION:2.0
PRODID:calendify.com
BEGIN:VEVENT
UID:calendify-session-eLYOw0l8Mzp
DTSTART:20220205T120000Z
SEQUENCE:0
TRANSP:OPAQUE
DTEND:20220205T123000Z
URL:https://calendify.com/session/eLYOw0l8Mzp
LOCATION:D.embedded
SUMMARY:Back to DirectFB!
CLASS:PUBLIC
DESCRIPTION:https://calendify.com/session/eLYOw0l8Mzp
DTSTAMP:20260424T004236Z
CREATED:20220120T214602Z
LAST-MODIFIED:20220206T225002Z
END:VEVENT
END:VCALENDAR