BEGIN:VCALENDAR
VERSION:2.0
PRODID:calendify.com
BEGIN:VEVENT
UID:calendify-session-eLYOw0pEMzp
DTSTART:20220205T090000Z
SEQUENCE:0
TRANSP:OPAQUE
DTEND:20220205T091000Z
URL:https://calendify.com/session/eLYOw0pEMzp
LOCATION:D.testing
SUMMARY:Welcome to Testing and Automation devroom
CLASS:PUBLIC
DESCRIPTION:https://calendify.com/session/eLYOw0pEMzp
DTSTAMP:20260423T012622Z
CREATED:20220120T214604Z
LAST-MODIFIED:20220206T225003Z
END:VEVENT
END:VCALENDAR