BEGIN:VCALENDAR
VERSION:2.0
PRODID:calendify.com
BEGIN:VEVENT
UID:calendify-session-eLYOw0rVMzp
DTSTART:20210520T124000Z
SEQUENCE:0
TRANSP:OPAQUE
DTEND:20210520T125300Z
URL:https://calendify.com/session/eLYOw0rVMzp
LOCATION:Kanal 1
SUMMARY:Understanding Binge-Watchers: How consumer attitudes towards conten
 t are changing.
CLASS:PUBLIC
DESCRIPTION:https://calendify.com/session/eLYOw0rVMzp
DTSTAMP:20260423T010218Z
CREATED:20210510T145032Z
LAST-MODIFIED:20210524T215002Z
END:VEVENT
END:VCALENDAR