BEGIN:VCALENDAR
VERSION:2.0
PRODID:calendify.com
BEGIN:VEVENT
UID:calendify-session-eLYOw0xjMzp
DTSTART:20210310T144500Z
SEQUENCE:0
TRANSP:OPAQUE
DTEND:20210310T154500Z
URL:https://calendify.com/session/eLYOw0xjMzp
LOCATION:Zoom Room 3B
SUMMARY:Virtual Embassy 2
CLASS:PUBLIC
DESCRIPTION:https://calendify.com/session/eLYOw0xjMzp
DTSTAMP:20260422T165726Z
CREATED:20210426T094927Z
LAST-MODIFIED:20210426T094927Z
END:VEVENT
END:VCALENDAR