BEGIN:VCALENDAR
VERSION:2.0
PRODID:calendify.com
BEGIN:VEVENT
UID:calendify-session-eLYOw9NVgzp
DTSTART:20241227T144500Z
SEQUENCE:0
TRANSP:OPAQUE
DTEND:20241227T152500Z
URL:https://calendify.com/session/eLYOw9NVgzp
LOCATION:Stage YELL
SUMMARY:Was tun wenn's brennt – Verhaltenstipps für politische Aktivist*
 innen
CLASS:PUBLIC
DESCRIPTION:https://calendify.com/session/eLYOw9NVgzp
DTSTAMP:20260419T133934Z
CREATED:20241227T141458Z
LAST-MODIFIED:20250101T225002Z
END:VEVENT
END:VCALENDAR