BEGIN:VCALENDAR
VERSION:2.0
PRODID:calendify.com
BEGIN:VEVENT
UID:calendify-session-eLYOw9REgzp
DTSTART:20240921T100000Z
SEQUENCE:0
TRANSP:OPAQUE
DTEND:20240921T104500Z
URL:https://calendify.com/session/eLYOw9REgzp
LOCATION:Kabinett
SUMMARY:Simboxes & Scams: The long road to SS7
CLASS:PUBLIC
DESCRIPTION:https://calendify.com/session/eLYOw9REgzp
DTSTAMP:20260420T235801Z
CREATED:20241208T220338Z
LAST-MODIFIED:20241208T220338Z
END:VEVENT
END:VCALENDAR