BEGIN:VCALENDAR
VERSION:2.0
PRODID:calendify.com
BEGIN:VEVENT
UID:calendify-session-eLYOw9RVgzp
DTSTART:20240921T171500Z
SEQUENCE:0
TRANSP:OPAQUE
DTEND:20240921T180000Z
URL:https://calendify.com/session/eLYOw9RVgzp
LOCATION:Kleiner Saal
SUMMARY:VersaTiles - freie Karten für alle
CLASS:PUBLIC
DESCRIPTION:https://calendify.com/session/eLYOw9RVgzp
DTSTAMP:20260422T111336Z
CREATED:20241208T220338Z
LAST-MODIFIED:20241208T220338Z
END:VEVENT
END:VCALENDAR