BEGIN:VCALENDAR
VERSION:2.0
PRODID:calendify.com
BEGIN:VEVENT
UID:calendify-session-eLYOw9ongzp
DTSTART:20241227T130000Z
SEQUENCE:0
TRANSP:OPAQUE
DTEND:20241227T150000Z
URL:https://calendify.com/session/eLYOw9ongzp
LOCATION:Kidspace - Basteltische
SUMMARY:Pimp Your Katzenohren
CLASS:PUBLIC
DESCRIPTION:https://calendify.com/session/eLYOw9ongzp
DTSTAMP:20260423T215055Z
CREATED:20241227T141502Z
LAST-MODIFIED:20250101T225002Z
END:VEVENT
END:VCALENDAR