BEGIN:VCALENDAR
VERSION:2.0
PRODID:calendify.com
BEGIN:VEVENT
UID:calendify-session-eLYOwB1P4zp
DTSTART:20231227T190000Z
SEQUENCE:0
TRANSP:OPAQUE
DTEND:20231227T210000Z
URL:https://calendify.com/session/eLYOwB1P4zp
LOCATION:Saal D
SUMMARY:WTF Genossenschaft Meetup
CLASS:PUBLIC
DESCRIPTION:https://calendify.com/session/eLYOwB1P4zp
DTSTAMP:20260423T020316Z
CREATED:20231221T100102Z
LAST-MODIFIED:20240401T142932Z
END:VEVENT
END:VCALENDAR