BEGIN:VCALENDAR
VERSION:2.0
PRODID:calendify.com
BEGIN:VEVENT
UID:calendify-session-eLYOwB354zp
DTSTART:20231228T125000Z
SEQUENCE:0
TRANSP:OPAQUE
DTEND:20231228T133000Z
URL:https://calendify.com/session/eLYOwB354zp
LOCATION:Saal 1
SUMMARY:Fuzz Everything\, Everywhere\, All at Once
CLASS:PUBLIC
DESCRIPTION:https://calendify.com/session/eLYOwB354zp
DTSTAMP:20260423T031413Z
CREATED:20231215T204819Z
LAST-MODIFIED:20240401T142932Z
END:VEVENT
END:VCALENDAR