BEGIN:VCALENDAR
VERSION:2.0
PRODID:calendify.com
BEGIN:VEVENT
UID:calendify-session-eLYOwB584zp
DTSTART:20231230T130000Z
SEQUENCE:0
TRANSP:OPAQUE
DTEND:20231230T150000Z
URL:https://calendify.com/session/eLYOwB584zp
LOCATION:Saal E
SUMMARY:OpenWrt Meetup
CLASS:PUBLIC
DESCRIPTION:https://calendify.com/session/eLYOwB584zp
DTSTAMP:20260423T070531Z
CREATED:20231224T230005Z
LAST-MODIFIED:20240401T142934Z
END:VEVENT
END:VCALENDAR