BEGIN:VCALENDAR
VERSION:2.0
PRODID:calendify.com
BEGIN:VEVENT
UID:calendify-session-eLYOwBBn4zp
DTSTART:20230816T090000Z
SEQUENCE:0
TRANSP:OPAQUE
DTEND:20230816T091500Z
URL:https://calendify.com/session/eLYOwBBn4zp
LOCATION:C3VOC.tv
SUMMARY:c3 MorningShow - Tag 2
CLASS:PUBLIC
DESCRIPTION:https://calendify.com/session/eLYOwBBn4zp
DTSTAMP:20260424T081616Z
CREATED:20230816T221030Z
LAST-MODIFIED:20240401T150800Z
END:VEVENT
END:VCALENDAR