BEGIN:VCALENDAR
VERSION:2.0
PRODID:calendify.com
BEGIN:VEVENT
UID:calendify-session-eLYOwBGN4zp
DTSTART:20231230T190000Z
SEQUENCE:0
TRANSP:OPAQUE
DTEND:20231230T210000Z
URL:https://calendify.com/session/eLYOwBGN4zp
LOCATION:Lounge
SUMMARY:Best Boy Electric
CLASS:PUBLIC
DESCRIPTION:https://calendify.com/session/eLYOwBGN4zp
DTSTAMP:20260423T004351Z
CREATED:20231228T134004Z
LAST-MODIFIED:20240401T142934Z
END:VEVENT
END:VCALENDAR