BEGIN:VCALENDAR
VERSION:2.0
PRODID:calendify.com
BEGIN:VEVENT
UID:calendify-session-eLYOwBLV4zp
DTSTART:20240331T140000Z
SEQUENCE:0
TRANSP:OPAQUE
DTEND:20240331T150000Z
URL:https://calendify.com/session/eLYOwBLV4zp
LOCATION:Walhacka - D002
SUMMARY:Lightning Talks
CLASS:PUBLIC
DESCRIPTION:https://calendify.com/session/eLYOwBLV4zp
DTSTAMP:20260423T231434Z
CREATED:20240328T125152Z
LAST-MODIFIED:20240401T142841Z
END:VEVENT
END:VCALENDAR