BEGIN:VCALENDAR
VERSION:2.0
PRODID:calendify.com
BEGIN:VEVENT
UID:calendify-session-eLYOwBNB4zp
DTSTART:20240601T070000Z
SEQUENCE:0
TRANSP:OPAQUE
DTEND:20240601T190000Z
URL:https://calendify.com/session/eLYOwBNB4zp
LOCATION:HfG Hackcenter Low Hof 3
SUMMARY:Do not try this at home - Rope Access for Nerds
CLASS:PUBLIC
DESCRIPTION:https://calendify.com/session/eLYOwBNB4zp
DTSTAMP:20260422T111215Z
CREATED:20240531T122740Z
LAST-MODIFIED:20240602T132303Z
END:VEVENT
END:VCALENDAR