BEGIN:VCALENDAR
VERSION:2.0
PRODID:calendify.com
BEGIN:VEVENT
UID:calendify-session-eLYOwBPn4zp
DTSTART:20240330T164500Z
SEQUENCE:0
TRANSP:OPAQUE
DTEND:20240330T184500Z
URL:https://calendify.com/session/eLYOwBPn4zp
LOCATION:Goldener Turing - K018
SUMMARY:Big Scary Rabbits^WDaemons - FreeBSD Install Workshop
CLASS:PUBLIC
DESCRIPTION:https://calendify.com/session/eLYOwBPn4zp
DTSTAMP:20260423T151630Z
CREATED:20240329T152817Z
LAST-MODIFIED:20240401T142841Z
END:VEVENT
END:VCALENDAR