BEGIN:VCALENDAR
VERSION:2.0
PRODID:calendify.com
BEGIN:VEVENT
UID:calendify-session-eLYOwBVP4zp
DTSTART:20231227T154000Z
SEQUENCE:0
TRANSP:OPAQUE
DTEND:20231227T171000Z
URL:https://calendify.com/session/eLYOwBVP4zp
LOCATION:Stonewall IO
SUMMARY:Merch und Lieblingskleidung flicken  |  Stricken für Anfänger*inn
 en || 2 Workshops parallel
CLASS:PUBLIC
DESCRIPTION:https://calendify.com/session/eLYOwBVP4zp
DTSTAMP:20260423T135012Z
CREATED:20231219T100102Z
LAST-MODIFIED:20240401T142932Z
END:VEVENT
END:VCALENDAR