BEGIN:VCALENDAR
VERSION:2.0
PRODID:calendify.com
BEGIN:VEVENT
UID:calendify-session-eLYOwBeE4zp
DTSTART:20230721T173000Z
SEQUENCE:0
TRANSP:OPAQUE
DTEND:20230721T183000Z
URL:https://calendify.com/session/eLYOwBeE4zp
LOCATION:Vortragsraum
SUMMARY:Chaos im Kopf - Mit GTD wirst du zum Master der Aufgabenbewältigun
 g!
CLASS:PUBLIC
DESCRIPTION:https://calendify.com/session/eLYOwBeE4zp
DTSTAMP:20260420T061348Z
CREATED:20230806T113705Z
LAST-MODIFIED:20230806T113705Z
END:VEVENT
END:VCALENDAR