BEGIN:VCALENDAR
VERSION:2.0
PRODID:calendify.com
BEGIN:VEVENT
UID:calendify-session-eLYOwBpq4zp
DTSTART:20240530T190000Z
SEQUENCE:0
TRANSP:OPAQUE
DTEND:20240530T200000Z
URL:https://calendify.com/session/eLYOwBpq4zp
LOCATION:HfG Raum 115
SUMMARY:Do try this at home - The other kind of Rope Access for Nerds
CLASS:PUBLIC
DESCRIPTION:https://calendify.com/session/eLYOwBpq4zp
DTSTAMP:20260420T030835Z
CREATED:20240531T122738Z
LAST-MODIFIED:20240602T132303Z
END:VEVENT
END:VCALENDAR