BEGIN:VCALENDAR
VERSION:2.0
PRODID:calendify.com
BEGIN:VEVENT
UID:calendify-session-eLYOwBwn4zp
DTSTART:20230902T080000Z
SEQUENCE:0
TRANSP:OPAQUE
DTEND:20230902T085000Z
URL:https://calendify.com/session/eLYOwBwn4zp
LOCATION:C205 - Gehirnwäscher
SUMMARY:Informationsflut - Wie ich mein Chaos im Wasserglas bändige
CLASS:PUBLIC
DESCRIPTION:https://calendify.com/session/eLYOwBwn4zp
DTSTAMP:20260420T192152Z
CREATED:20240328T132702Z
LAST-MODIFIED:20240328T132702Z
END:VEVENT
END:VCALENDAR