BEGIN:VCALENDAR
VERSION:2.0
PRODID:calendify.com
BEGIN:VEVENT
UID:calendify-session-eLYOwBy54zp
DTSTART:20231230T115500Z
SEQUENCE:0
TRANSP:OPAQUE
DTEND:20231230T123500Z
URL:https://calendify.com/session/eLYOwBy54zp
LOCATION:Saal Granville
SUMMARY:Decolonize runet! Decolonize network measurements! A provocative ta
 ke  on the Russian sovereign internet project 
CLASS:PUBLIC
DESCRIPTION:https://calendify.com/session/eLYOwBy54zp
DTSTAMP:20260423T044537Z
CREATED:20231215T204822Z
LAST-MODIFIED:20240401T142934Z
END:VEVENT
END:VCALENDAR