BEGIN:VCALENDAR
VERSION:2.0
PRODID:calendify.com
BEGIN:VEVENT
UID:calendify-session-eLYOwByP4zp
DTSTART:20231227T203000Z
SEQUENCE:0
TRANSP:OPAQUE
DTEND:20231227T210000Z
URL:https://calendify.com/session/eLYOwByP4zp
LOCATION:Chaoswelle
SUMMARY:Amateurfunk als Hilfe in Not- und Katastrophenfällen
CLASS:PUBLIC
DESCRIPTION:https://calendify.com/session/eLYOwByP4zp
DTSTAMP:20260423T031039Z
CREATED:20231218T013831Z
LAST-MODIFIED:20240401T142932Z
END:VEVENT
END:VCALENDAR