BEGIN:VCALENDAR
VERSION:2.0
PRODID:calendify.com
BEGIN:VEVENT
UID:calendify-session-eLYOwBz54zp
DTSTART:20231229T181500Z
SEQUENCE:0
TRANSP:OPAQUE
DTEND:20231229T191500Z
URL:https://calendify.com/session/eLYOwBz54zp
LOCATION:Saal 1
SUMMARY:Chatkontrolle - Es ist noch nicht vorbei!
CLASS:PUBLIC
DESCRIPTION:https://calendify.com/session/eLYOwBz54zp
DTSTAMP:20260424T004230Z
CREATED:20231215T204820Z
LAST-MODIFIED:20240401T142932Z
END:VEVENT
END:VCALENDAR