BEGIN:VCALENDAR
VERSION:2.0
PRODID:calendify.com
BEGIN:VEVENT
UID:calendify-session-eLYOwE0Egzp
DTSTART:20210206T161500Z
SEQUENCE:0
TRANSP:OPAQUE
DTEND:20210206T164000Z
URL:https://calendify.com/session/eLYOwE0Egzp
LOCATION:D.hardware.trusted
SUMMARY:Hardware-Aided Trusted Computing in High-Level Synthesis (HLS) for 
 FPGAs
CLASS:PUBLIC
DESCRIPTION:https://calendify.com/session/eLYOwE0Egzp
DTSTAMP:20260423T140744Z
CREATED:20210111T170318Z
LAST-MODIFIED:20210208T224802Z
END:VEVENT
END:VCALENDAR