BEGIN:VCALENDAR
VERSION:2.0
PRODID:calendify.com
BEGIN:VEVENT
UID:calendify-session-eLYOwE5jgzp
DTSTART:20210207T140000Z
SEQUENCE:0
TRANSP:OPAQUE
DTEND:20210207T143000Z
URL:https://calendify.com/session/eLYOwE5jgzp
LOCATION:D.python
SUMMARY:Code reloading techniques in Python
CLASS:PUBLIC
DESCRIPTION:https://calendify.com/session/eLYOwE5jgzp
DTSTAMP:20260419T195205Z
CREATED:20210114T155443Z
LAST-MODIFIED:20210208T224804Z
END:VEVENT
END:VCALENDAR