BEGIN:VCALENDAR
VERSION:2.0
PRODID:calendify.com
BEGIN:VEVENT
UID:calendify-session-eLYOwE68gzp
DTSTART:20210206T140000Z
SEQUENCE:0
TRANSP:OPAQUE
DTEND:20210206T143000Z
URL:https://calendify.com/session/eLYOwE68gzp
LOCATION:D.legal
SUMMARY:Open Source Culture is Very US-Centric\, But It Shouldn't Be
CLASS:PUBLIC
DESCRIPTION:https://calendify.com/session/eLYOwE68gzp
DTSTAMP:20260423T110902Z
CREATED:20210122T190820Z
LAST-MODIFIED:20210208T224802Z
END:VEVENT
END:VCALENDAR