BEGIN:VCALENDAR
VERSION:2.0
PRODID:calendify.com
BEGIN:VEVENT
UID:calendify-session-eLYOwE8qgzp
DTSTART:20210207T114000Z
SEQUENCE:0
TRANSP:OPAQUE
DTEND:20210207T121000Z
URL:https://calendify.com/session/eLYOwE8qgzp
LOCATION:D.kotlin
SUMMARY:Goodbye Kotlin Extensions\, Welcome View Binding
CLASS:PUBLIC
DESCRIPTION:https://calendify.com/session/eLYOwE8qgzp
DTSTAMP:20260420T002713Z
CREATED:20210111T170320Z
LAST-MODIFIED:20210208T224804Z
END:VEVENT
END:VCALENDAR