BEGIN:VCALENDAR
VERSION:2.0
PRODID:calendify.com
BEGIN:VEVENT
UID:calendify-session-eLYOwEQXgzp
DTSTART:20210207T160000Z
SEQUENCE:0
TRANSP:OPAQUE
DTEND:20210207T163000Z
URL:https://calendify.com/session/eLYOwEQXgzp
LOCATION:D.hpc
SUMMARY:Flux: Solving Exascale Workflow and Resource Challenges
CLASS:PUBLIC
DESCRIPTION:https://calendify.com/session/eLYOwEQXgzp
DTSTAMP:20260419T124119Z
CREATED:20210201T190824Z
LAST-MODIFIED:20210208T224804Z
END:VEVENT
END:VCALENDAR