BEGIN:VCALENDAR
VERSION:2.0
PRODID:calendify.com
BEGIN:VEVENT
UID:calendify-session-eLYOwEYngzp
DTSTART:20210206T145000Z
SEQUENCE:0
TRANSP:OPAQUE
DTEND:20210206T151500Z
URL:https://calendify.com/session/eLYOwEYngzp
LOCATION:D.research
SUMMARY:Research on the french law-making process
CLASS:PUBLIC
DESCRIPTION:https://calendify.com/session/eLYOwEYngzp
DTSTAMP:20260419T184915Z
CREATED:20210111T170319Z
LAST-MODIFIED:20210208T224803Z
END:VEVENT
END:VCALENDAR