BEGIN:VCALENDAR
VERSION:2.0
PRODID:calendify.com
BEGIN:VEVENT
UID:calendify-session-eLYOwEm8gzp
DTSTART:20210206T083000Z
SEQUENCE:0
TRANSP:OPAQUE
DTEND:20210206T090000Z
URL:https://calendify.com/session/eLYOwEm8gzp
LOCATION:S.kiwi
SUMMARY:Welcome to the stand for Kiwi TCMS
CLASS:PUBLIC
DESCRIPTION:https://calendify.com/session/eLYOwEm8gzp
DTSTAMP:20260419T212322Z
CREATED:20210125T190820Z
LAST-MODIFIED:20210208T224803Z
END:VEVENT
END:VCALENDAR